BEGIN:VCALENDAR
VERSION:2.0
PRODID:-//Council for Ghanaian Associations (COGA) - ECPv6.15.20//NONSGML v1.0//EN
CALSCALE:GREGORIAN
METHOD:PUBLISH
X-ORIGINAL-URL:https://www.cogawashingtondc.org
X-WR-CALDESC:Events for Council for Ghanaian Associations (COGA)
REFRESH-INTERVAL;VALUE=DURATION:PT1H
X-Robots-Tag:noindex
X-PUBLISHED-TTL:PT1H
BEGIN:VTIMEZONE
TZID:America/Halifax
BEGIN:DAYLIGHT
TZOFFSETFROM:-0400
TZOFFSETTO:-0300
TZNAME:ADT
DTSTART:20170312T060000
END:DAYLIGHT
BEGIN:STANDARD
TZOFFSETFROM:-0300
TZOFFSETTO:-0400
TZNAME:AST
DTSTART:20171105T050000
END:STANDARD
BEGIN:DAYLIGHT
TZOFFSETFROM:-0400
TZOFFSETTO:-0300
TZNAME:ADT
DTSTART:20180311T060000
END:DAYLIGHT
BEGIN:STANDARD
TZOFFSETFROM:-0300
TZOFFSETTO:-0400
TZNAME:AST
DTSTART:20181104T050000
END:STANDARD
BEGIN:DAYLIGHT
TZOFFSETFROM:-0400
TZOFFSETTO:-0300
TZNAME:ADT
DTSTART:20190310T060000
END:DAYLIGHT
BEGIN:STANDARD
TZOFFSETFROM:-0300
TZOFFSETTO:-0400
TZNAME:AST
DTSTART:20191103T050000
END:STANDARD
BEGIN:DAYLIGHT
TZOFFSETFROM:-0400
TZOFFSETTO:-0300
TZNAME:ADT
DTSTART:20200308T060000
END:DAYLIGHT
BEGIN:STANDARD
TZOFFSETFROM:-0300
TZOFFSETTO:-0400
TZNAME:AST
DTSTART:20201101T050000
END:STANDARD
BEGIN:DAYLIGHT
TZOFFSETFROM:-0400
TZOFFSETTO:-0300
TZNAME:ADT
DTSTART:20210314T060000
END:DAYLIGHT
BEGIN:STANDARD
TZOFFSETFROM:-0300
TZOFFSETTO:-0400
TZNAME:AST
DTSTART:20211107T050000
END:STANDARD
END:VTIMEZONE
BEGIN:VTIMEZONE
TZID:UTC
BEGIN:STANDARD
TZOFFSETFROM:+0000
TZOFFSETTO:+0000
TZNAME:UTC
DTSTART:20190101T000000
END:STANDARD
END:VTIMEZONE
BEGIN:VTIMEZONE
TZID:America/New_York
BEGIN:DAYLIGHT
TZOFFSETFROM:-0500
TZOFFSETTO:-0400
TZNAME:EDT
DTSTART:20170312T070000
END:DAYLIGHT
BEGIN:STANDARD
TZOFFSETFROM:-0400
TZOFFSETTO:-0500
TZNAME:EST
DTSTART:20171105T060000
END:STANDARD
BEGIN:DAYLIGHT
TZOFFSETFROM:-0500
TZOFFSETTO:-0400
TZNAME:EDT
DTSTART:20180311T070000
END:DAYLIGHT
BEGIN:STANDARD
TZOFFSETFROM:-0400
TZOFFSETTO:-0500
TZNAME:EST
DTSTART:20181104T060000
END:STANDARD
BEGIN:DAYLIGHT
TZOFFSETFROM:-0500
TZOFFSETTO:-0400
TZNAME:EDT
DTSTART:20190310T070000
END:DAYLIGHT
BEGIN:STANDARD
TZOFFSETFROM:-0400
TZOFFSETTO:-0500
TZNAME:EST
DTSTART:20191103T060000
END:STANDARD
END:VTIMEZONE
BEGIN:VEVENT
DTSTART;TZID=America/Halifax:20200516T183000
DTEND;TZID=America/Halifax:20200516T203000
DTSTAMP:20260423T232651
CREATED:20171031T024131Z
LAST-MODIFIED:20171031T024131Z
UID:430-1589653800-1589661000@www.cogawashingtondc.org
SUMMARY:General Meeting
DESCRIPTION:
URL:https://www.cogawashingtondc.org/event/general-meeting-2020-05-16/
LOCATION:1523 Forest Glen Rd.\, Silver Spring\, MD\, 20902\, United States
CATEGORIES:Meeting
END:VEVENT
BEGIN:VEVENT
DTSTART;TZID=America/Halifax:20200418T183000
DTEND;TZID=America/Halifax:20200418T203000
DTSTAMP:20260423T232651
CREATED:20171031T024131Z
LAST-MODIFIED:20171031T024131Z
UID:425-1587234600-1587241800@www.cogawashingtondc.org
SUMMARY:General Meeting
DESCRIPTION:
URL:https://www.cogawashingtondc.org/event/general-meeting-2020-04-18/
LOCATION:1523 Forest Glen Rd.\, Silver Spring\, MD\, 20902\, United States
CATEGORIES:Meeting
END:VEVENT
BEGIN:VEVENT
DTSTART;TZID=America/Halifax:20200321T183000
DTEND;TZID=America/Halifax:20200321T203000
DTSTAMP:20260423T232651
CREATED:20171031T024131Z
LAST-MODIFIED:20171031T024131Z
UID:404-1584815400-1584822600@www.cogawashingtondc.org
SUMMARY:General Meeting
DESCRIPTION:
URL:https://www.cogawashingtondc.org/event/general-meeting-2020-03-21/
LOCATION:1523 Forest Glen Rd.\, Silver Spring\, MD\, 20902\, United States
CATEGORIES:Meeting
END:VEVENT
BEGIN:VEVENT
DTSTART;TZID=UTC:20200307T213000
DTEND;TZID=UTC:20200308T030000
DTSTAMP:20260423T232651
CREATED:20200224T073340Z
LAST-MODIFIED:20200224T073611Z
UID:560-1583616600-1583636400@www.cogawashingtondc.org
SUMMARY:Ghana's 63rd Anniversary & Fundraising Dinner Dance
DESCRIPTION:
URL:https://www.cogawashingtondc.org/event/ghanas-63rd-anniversary-fundraising-dinner-dance/
LOCATION:Holiday Inn\, 10000 Baltimore Avenue\, College Park\, MD\, 20740\, United States
CATEGORIES:Social
END:VEVENT
BEGIN:VEVENT
DTSTART;TZID=America/Halifax:20200215T183000
DTEND;TZID=America/Halifax:20200215T203000
DTSTAMP:20260423T232651
CREATED:20171031T024131Z
LAST-MODIFIED:20171031T024131Z
UID:403-1581791400-1581798600@www.cogawashingtondc.org
SUMMARY:General Meeting
DESCRIPTION:
URL:https://www.cogawashingtondc.org/event/general-meeting-2020-02-15/
LOCATION:1523 Forest Glen Rd.\, Silver Spring\, MD\, 20902\, United States
CATEGORIES:Meeting
END:VEVENT
BEGIN:VEVENT
DTSTART;TZID=America/Halifax:20200118T183000
DTEND;TZID=America/Halifax:20200118T203000
DTSTAMP:20260423T232651
CREATED:20171031T024131Z
LAST-MODIFIED:20171031T024131Z
UID:388-1579372200-1579379400@www.cogawashingtondc.org
SUMMARY:General Meeting
DESCRIPTION:
URL:https://www.cogawashingtondc.org/event/general-meeting-2020-01-18/
LOCATION:1523 Forest Glen Rd.\, Silver Spring\, MD\, 20902\, United States
CATEGORIES:Meeting
END:VEVENT
BEGIN:VEVENT
DTSTART;TZID=America/Halifax:20191221T183000
DTEND;TZID=America/Halifax:20191221T203000
DTSTAMP:20260423T232651
CREATED:20171031T024131Z
LAST-MODIFIED:20171031T024131Z
UID:373-1576953000-1576960200@www.cogawashingtondc.org
SUMMARY:General Meeting
DESCRIPTION:
URL:https://www.cogawashingtondc.org/event/general-meeting-2019-12-21/
LOCATION:1523 Forest Glen Rd.\, Silver Spring\, MD\, 20902\, United States
CATEGORIES:Meeting
END:VEVENT
BEGIN:VEVENT
DTSTART;TZID=America/Halifax:20191116T183000
DTEND;TZID=America/Halifax:20191116T203000
DTSTAMP:20260423T232651
CREATED:20171031T024131Z
LAST-MODIFIED:20171031T024131Z
UID:368-1573929000-1573936200@www.cogawashingtondc.org
SUMMARY:General Meeting
DESCRIPTION:
URL:https://www.cogawashingtondc.org/event/general-meeting-2019-11-16/
LOCATION:1523 Forest Glen Rd.\, Silver Spring\, MD\, 20902\, United States
CATEGORIES:Meeting
END:VEVENT
BEGIN:VEVENT
DTSTART;TZID=America/Halifax:20191019T183000
DTEND;TZID=America/Halifax:20191019T203000
DTSTAMP:20260423T232651
CREATED:20171031T024131Z
LAST-MODIFIED:20171031T024131Z
UID:150-1571509800-1571517000@www.cogawashingtondc.org
SUMMARY:General Meeting
DESCRIPTION:
URL:https://www.cogawashingtondc.org/event/general-meeting-2019-10-19/
LOCATION:1523 Forest Glen Rd.\, Silver Spring\, MD\, 20902\, United States
CATEGORIES:Meeting
END:VEVENT
BEGIN:VEVENT
DTSTART;TZID=America/Halifax:20190921T183000
DTEND;TZID=America/Halifax:20190921T203000
DTSTAMP:20260423T232651
CREATED:20171031T024131Z
LAST-MODIFIED:20171031T024131Z
UID:149-1569090600-1569097800@www.cogawashingtondc.org
SUMMARY:General Meeting
DESCRIPTION:
URL:https://www.cogawashingtondc.org/event/general-meeting-2019-09-21/
LOCATION:1523 Forest Glen Rd.\, Silver Spring\, MD\, 20902\, United States
CATEGORIES:Meeting
END:VEVENT
BEGIN:VEVENT
DTSTART;TZID=America/Halifax:20190817T183000
DTEND;TZID=America/Halifax:20190817T203000
DTSTAMP:20260423T232651
CREATED:20171031T024131Z
LAST-MODIFIED:20171031T024131Z
UID:148-1566066600-1566073800@www.cogawashingtondc.org
SUMMARY:General Meeting
DESCRIPTION:
URL:https://www.cogawashingtondc.org/event/general-meeting-2019-08-17/
LOCATION:1523 Forest Glen Rd.\, Silver Spring\, MD\, 20902\, United States
CATEGORIES:Meeting
END:VEVENT
BEGIN:VEVENT
DTSTART;TZID=America/Halifax:20190720T183000
DTEND;TZID=America/Halifax:20190720T203000
DTSTAMP:20260423T232651
CREATED:20171031T024131Z
LAST-MODIFIED:20171031T024131Z
UID:147-1563647400-1563654600@www.cogawashingtondc.org
SUMMARY:General Meeting
DESCRIPTION:
URL:https://www.cogawashingtondc.org/event/general-meeting-2019-07-20/
LOCATION:1523 Forest Glen Rd.\, Silver Spring\, MD\, 20902\, United States
CATEGORIES:Meeting
END:VEVENT
BEGIN:VEVENT
DTSTART;TZID=America/Halifax:20190615T183000
DTEND;TZID=America/Halifax:20190615T203000
DTSTAMP:20260423T232651
CREATED:20171031T024131Z
LAST-MODIFIED:20171031T024131Z
UID:146-1560623400-1560630600@www.cogawashingtondc.org
SUMMARY:General Meeting
DESCRIPTION:
URL:https://www.cogawashingtondc.org/event/general-meeting-2019-06-15/
LOCATION:1523 Forest Glen Rd.\, Silver Spring\, MD\, 20902\, United States
CATEGORIES:Meeting
END:VEVENT
BEGIN:VEVENT
DTSTART;TZID=America/Halifax:20190518T183000
DTEND;TZID=America/Halifax:20190518T203000
DTSTAMP:20260423T232651
CREATED:20171031T024131Z
LAST-MODIFIED:20171031T024131Z
UID:145-1558204200-1558211400@www.cogawashingtondc.org
SUMMARY:General Meeting
DESCRIPTION:
URL:https://www.cogawashingtondc.org/event/general-meeting-2019-05-18/
LOCATION:1523 Forest Glen Rd.\, Silver Spring\, MD\, 20902\, United States
CATEGORIES:Meeting
END:VEVENT
BEGIN:VEVENT
DTSTART;TZID=America/Halifax:20190420T183000
DTEND;TZID=America/Halifax:20190420T203000
DTSTAMP:20260423T232651
CREATED:20171031T024131Z
LAST-MODIFIED:20171031T024131Z
UID:144-1555785000-1555792200@www.cogawashingtondc.org
SUMMARY:General Meeting
DESCRIPTION:
URL:https://www.cogawashingtondc.org/event/general-meeting-2019-04-20/
LOCATION:1523 Forest Glen Rd.\, Silver Spring\, MD\, 20902\, United States
CATEGORIES:Meeting
END:VEVENT
BEGIN:VEVENT
DTSTART;TZID=America/Halifax:20190316T183000
DTEND;TZID=America/Halifax:20190316T203000
DTSTAMP:20260423T232651
CREATED:20171031T024131Z
LAST-MODIFIED:20171031T024131Z
UID:143-1552761000-1552768200@www.cogawashingtondc.org
SUMMARY:General Meeting
DESCRIPTION:
URL:https://www.cogawashingtondc.org/event/general-meeting-2019-03-16/
LOCATION:1523 Forest Glen Rd.\, Silver Spring\, MD\, 20902\, United States
CATEGORIES:Meeting
END:VEVENT
BEGIN:VEVENT
DTSTART;TZID=America/Halifax:20190216T183000
DTEND;TZID=America/Halifax:20190216T203000
DTSTAMP:20260423T232651
CREATED:20171031T024131Z
LAST-MODIFIED:20171031T024131Z
UID:142-1550341800-1550349000@www.cogawashingtondc.org
SUMMARY:General Meeting
DESCRIPTION:
URL:https://www.cogawashingtondc.org/event/general-meeting-2019-02-16/
LOCATION:1523 Forest Glen Rd.\, Silver Spring\, MD\, 20902\, United States
CATEGORIES:Meeting
END:VEVENT
BEGIN:VEVENT
DTSTART;TZID=America/Halifax:20190119T183000
DTEND;TZID=America/Halifax:20190119T203000
DTSTAMP:20260423T232651
CREATED:20171031T024131Z
LAST-MODIFIED:20171031T024131Z
UID:141-1547922600-1547929800@www.cogawashingtondc.org
SUMMARY:General Meeting
DESCRIPTION:
URL:https://www.cogawashingtondc.org/event/general-meeting-2019-01-19/
LOCATION:1523 Forest Glen Rd.\, Silver Spring\, MD\, 20902\, United States
CATEGORIES:Meeting
END:VEVENT
BEGIN:VEVENT
DTSTART;TZID=America/Halifax:20181215T183000
DTEND;TZID=America/Halifax:20181215T203000
DTSTAMP:20260423T232651
CREATED:20171031T024131Z
LAST-MODIFIED:20171031T024131Z
UID:140-1544898600-1544905800@www.cogawashingtondc.org
SUMMARY:General Meeting
DESCRIPTION:
URL:https://www.cogawashingtondc.org/event/general-meeting-2018-12-15/
LOCATION:1523 Forest Glen Rd.\, Silver Spring\, MD\, 20902\, United States
CATEGORIES:Meeting
END:VEVENT
BEGIN:VEVENT
DTSTART;TZID=America/Halifax:20181117T183000
DTEND;TZID=America/Halifax:20181117T203000
DTSTAMP:20260423T232651
CREATED:20171031T024131Z
LAST-MODIFIED:20171031T024131Z
UID:139-1542479400-1542486600@www.cogawashingtondc.org
SUMMARY:General Meeting
DESCRIPTION:
URL:https://www.cogawashingtondc.org/event/general-meeting-2018-11-17/
LOCATION:1523 Forest Glen Rd.\, Silver Spring\, MD\, 20902\, United States
CATEGORIES:Meeting
END:VEVENT
BEGIN:VEVENT
DTSTART;TZID=America/Halifax:20181020T183000
DTEND;TZID=America/Halifax:20181020T203000
DTSTAMP:20260423T232651
CREATED:20171031T024131Z
LAST-MODIFIED:20171031T024131Z
UID:138-1540060200-1540067400@www.cogawashingtondc.org
SUMMARY:General Meeting
DESCRIPTION:
URL:https://www.cogawashingtondc.org/event/general-meeting-2018-10-20/
LOCATION:1523 Forest Glen Rd.\, Silver Spring\, MD\, 20902\, United States
CATEGORIES:Meeting
END:VEVENT
BEGIN:VEVENT
DTSTART;TZID=America/Halifax:20180915T183000
DTEND;TZID=America/Halifax:20180915T203000
DTSTAMP:20260423T232651
CREATED:20171031T024131Z
LAST-MODIFIED:20171031T024131Z
UID:137-1537036200-1537043400@www.cogawashingtondc.org
SUMMARY:General Meeting
DESCRIPTION:
URL:https://www.cogawashingtondc.org/event/general-meeting-2018-09-15/
LOCATION:1523 Forest Glen Rd.\, Silver Spring\, MD\, 20902\, United States
CATEGORIES:Meeting
END:VEVENT
BEGIN:VEVENT
DTSTART;TZID=America/Halifax:20180818T183000
DTEND;TZID=America/Halifax:20180818T203000
DTSTAMP:20260423T232651
CREATED:20171031T024131Z
LAST-MODIFIED:20171031T024131Z
UID:136-1534617000-1534624200@www.cogawashingtondc.org
SUMMARY:General Meeting
DESCRIPTION:
URL:https://www.cogawashingtondc.org/event/general-meeting-2018-08-18/
LOCATION:1523 Forest Glen Rd.\, Silver Spring\, MD\, 20902\, United States
CATEGORIES:Meeting
END:VEVENT
BEGIN:VEVENT
DTSTART;TZID=America/Halifax:20180721T183000
DTEND;TZID=America/Halifax:20180721T203000
DTSTAMP:20260423T232651
CREATED:20171031T024131Z
LAST-MODIFIED:20171031T024131Z
UID:135-1532197800-1532205000@www.cogawashingtondc.org
SUMMARY:General Meeting
DESCRIPTION:
URL:https://www.cogawashingtondc.org/event/general-meeting-2018-07-21/
LOCATION:1523 Forest Glen Rd.\, Silver Spring\, MD\, 20902\, United States
CATEGORIES:Meeting
END:VEVENT
BEGIN:VEVENT
DTSTART;TZID=America/New_York:20180721T130000
DTEND;TZID=America/New_York:20180721T190000
DTSTAMP:20260423T232651
CREATED:20180721T062432Z
LAST-MODIFIED:20180721T062432Z
UID:467-1532178000-1532199600@www.cogawashingtondc.org
SUMMARY:GhanaFest 2018
DESCRIPTION:
URL:https://www.cogawashingtondc.org/event/ghanafest-2018/
LOCATION:Fort Hunt Park\, 8999 Fort Hunt Road\, Alexandria\, VA\, 22308\, United States
CATEGORIES:Social
ATTACH;FMTTYPE=image/jpeg:https://www.cogawashingtondc.org/wp-content/uploads/2018/07/2018-Picnic-Flyer_Final-1-800.jpg
END:VEVENT
BEGIN:VEVENT
DTSTART;TZID=America/Halifax:20180616T183000
DTEND;TZID=America/Halifax:20180616T203000
DTSTAMP:20260423T232651
CREATED:20171031T024131Z
LAST-MODIFIED:20171031T024131Z
UID:134-1529173800-1529181000@www.cogawashingtondc.org
SUMMARY:General Meeting
DESCRIPTION:
URL:https://www.cogawashingtondc.org/event/general-meeting-2018-06-16/
LOCATION:1523 Forest Glen Rd.\, Silver Spring\, MD\, 20902\, United States
CATEGORIES:Meeting
END:VEVENT
BEGIN:VEVENT
DTSTART;TZID=America/Halifax:20180519T183000
DTEND;TZID=America/Halifax:20180519T203000
DTSTAMP:20260423T232651
CREATED:20171031T024131Z
LAST-MODIFIED:20171031T024131Z
UID:133-1526754600-1526761800@www.cogawashingtondc.org
SUMMARY:General Meeting
DESCRIPTION:
URL:https://www.cogawashingtondc.org/event/general-meeting-2018-05-19/
LOCATION:1523 Forest Glen Rd.\, Silver Spring\, MD\, 20902\, United States
CATEGORIES:Meeting
END:VEVENT
BEGIN:VEVENT
DTSTART;TZID=America/Halifax:20180421T183000
DTEND;TZID=America/Halifax:20180421T203000
DTSTAMP:20260423T232651
CREATED:20171031T024131Z
LAST-MODIFIED:20171031T024131Z
UID:132-1524335400-1524342600@www.cogawashingtondc.org
SUMMARY:General Meeting
DESCRIPTION:
URL:https://www.cogawashingtondc.org/event/general-meeting-2018-04-21/
LOCATION:1523 Forest Glen Rd.\, Silver Spring\, MD\, 20902\, United States
CATEGORIES:Meeting
END:VEVENT
BEGIN:VEVENT
DTSTART;TZID=America/Halifax:20180317T183000
DTEND;TZID=America/Halifax:20180317T203000
DTSTAMP:20260423T232651
CREATED:20171031T024131Z
LAST-MODIFIED:20171031T024131Z
UID:131-1521311400-1521318600@www.cogawashingtondc.org
SUMMARY:General Meeting
DESCRIPTION:
URL:https://www.cogawashingtondc.org/event/general-meeting-2018-03-17/
LOCATION:1523 Forest Glen Rd.\, Silver Spring\, MD\, 20902\, United States
CATEGORIES:Meeting
END:VEVENT
BEGIN:VEVENT
DTSTART;TZID=America/Halifax:20180217T183000
DTEND;TZID=America/Halifax:20180217T203000
DTSTAMP:20260423T232651
CREATED:20171031T024131Z
LAST-MODIFIED:20171031T024131Z
UID:130-1518892200-1518899400@www.cogawashingtondc.org
SUMMARY:General Meeting
DESCRIPTION:
URL:https://www.cogawashingtondc.org/event/general-meeting-2018-02-17/
LOCATION:1523 Forest Glen Rd.\, Silver Spring\, MD\, 20902\, United States
CATEGORIES:Meeting
END:VEVENT
END:VCALENDAR