BEGIN:VCALENDAR
VERSION:2.0
PRODID:-//Council for Ghanaian Associations (COGA) - ECPv6.15.20//NONSGML v1.0//EN
CALSCALE:GREGORIAN
METHOD:PUBLISH
X-WR-CALNAME:Council for Ghanaian Associations (COGA)
X-ORIGINAL-URL:https://www.cogawashingtondc.org
X-WR-CALDESC:Events for Council for Ghanaian Associations (COGA)
REFRESH-INTERVAL;VALUE=DURATION:PT1H
X-Robots-Tag:noindex
X-PUBLISHED-TTL:PT1H
BEGIN:VTIMEZONE
TZID:America/Halifax
BEGIN:DAYLIGHT
TZOFFSETFROM:-0400
TZOFFSETTO:-0300
TZNAME:ADT
DTSTART:20180311T060000
END:DAYLIGHT
BEGIN:STANDARD
TZOFFSETFROM:-0300
TZOFFSETTO:-0400
TZNAME:AST
DTSTART:20181104T050000
END:STANDARD
BEGIN:DAYLIGHT
TZOFFSETFROM:-0400
TZOFFSETTO:-0300
TZNAME:ADT
DTSTART:20190310T060000
END:DAYLIGHT
BEGIN:STANDARD
TZOFFSETFROM:-0300
TZOFFSETTO:-0400
TZNAME:AST
DTSTART:20191103T050000
END:STANDARD
BEGIN:DAYLIGHT
TZOFFSETFROM:-0400
TZOFFSETTO:-0300
TZNAME:ADT
DTSTART:20200308T060000
END:DAYLIGHT
BEGIN:STANDARD
TZOFFSETFROM:-0300
TZOFFSETTO:-0400
TZNAME:AST
DTSTART:20201101T050000
END:STANDARD
BEGIN:DAYLIGHT
TZOFFSETFROM:-0400
TZOFFSETTO:-0300
TZNAME:ADT
DTSTART:20210314T060000
END:DAYLIGHT
BEGIN:STANDARD
TZOFFSETFROM:-0300
TZOFFSETTO:-0400
TZNAME:AST
DTSTART:20211107T050000
END:STANDARD
BEGIN:DAYLIGHT
TZOFFSETFROM:-0400
TZOFFSETTO:-0300
TZNAME:ADT
DTSTART:20220313T060000
END:DAYLIGHT
BEGIN:STANDARD
TZOFFSETFROM:-0300
TZOFFSETTO:-0400
TZNAME:AST
DTSTART:20221106T050000
END:STANDARD
BEGIN:DAYLIGHT
TZOFFSETFROM:-0400
TZOFFSETTO:-0300
TZNAME:ADT
DTSTART:20230312T060000
END:DAYLIGHT
BEGIN:STANDARD
TZOFFSETFROM:-0300
TZOFFSETTO:-0400
TZNAME:AST
DTSTART:20231105T050000
END:STANDARD
END:VTIMEZONE
BEGIN:VTIMEZONE
TZID:UTC
BEGIN:STANDARD
TZOFFSETFROM:+0000
TZOFFSETTO:+0000
TZNAME:UTC
DTSTART:20190101T000000
END:STANDARD
END:VTIMEZONE
BEGIN:VEVENT
DTSTART;TZID=America/Halifax:20220115T183000
DTEND;TZID=America/Halifax:20220115T203000
DTSTAMP:20260423T155527
CREATED:20171031T024131Z
LAST-MODIFIED:20171031T024131Z
UID:547-1642271400-1642278600@www.cogawashingtondc.org
SUMMARY:General Meeting
DESCRIPTION:
URL:https://www.cogawashingtondc.org/event/general-meeting-2022-01-15/
LOCATION:1523 Forest Glen Rd.\, Silver Spring\, MD\, 20902\, United States
CATEGORIES:Meeting
END:VEVENT
BEGIN:VEVENT
DTSTART;TZID=America/Halifax:20211218T183000
DTEND;TZID=America/Halifax:20211218T203000
DTSTAMP:20260423T155527
CREATED:20171031T024131Z
LAST-MODIFIED:20171031T024131Z
UID:543-1639852200-1639859400@www.cogawashingtondc.org
SUMMARY:General Meeting
DESCRIPTION:
URL:https://www.cogawashingtondc.org/event/general-meeting-2021-12-18/
LOCATION:1523 Forest Glen Rd.\, Silver Spring\, MD\, 20902\, United States
CATEGORIES:Meeting
END:VEVENT
BEGIN:VEVENT
DTSTART;TZID=America/Halifax:20211120T183000
DTEND;TZID=America/Halifax:20211120T203000
DTSTAMP:20260423T155527
CREATED:20171031T024131Z
LAST-MODIFIED:20171031T024131Z
UID:542-1637433000-1637440200@www.cogawashingtondc.org
SUMMARY:General Meeting
DESCRIPTION:
URL:https://www.cogawashingtondc.org/event/general-meeting-2021-11-20/
LOCATION:1523 Forest Glen Rd.\, Silver Spring\, MD\, 20902\, United States
CATEGORIES:Meeting
END:VEVENT
BEGIN:VEVENT
DTSTART;TZID=America/Halifax:20211016T183000
DTEND;TZID=America/Halifax:20211016T203000
DTSTAMP:20260423T155527
CREATED:20171031T024131Z
LAST-MODIFIED:20171031T024131Z
UID:541-1634409000-1634416200@www.cogawashingtondc.org
SUMMARY:General Meeting
DESCRIPTION:
URL:https://www.cogawashingtondc.org/event/general-meeting-2021-10-16/
LOCATION:1523 Forest Glen Rd.\, Silver Spring\, MD\, 20902\, United States
CATEGORIES:Meeting
END:VEVENT
BEGIN:VEVENT
DTSTART;TZID=America/Halifax:20210918T183000
DTEND;TZID=America/Halifax:20210918T203000
DTSTAMP:20260423T155527
CREATED:20171031T024131Z
LAST-MODIFIED:20171031T024131Z
UID:540-1631989800-1631997000@www.cogawashingtondc.org
SUMMARY:General Meeting
DESCRIPTION:
URL:https://www.cogawashingtondc.org/event/general-meeting-2021-09-18/
LOCATION:1523 Forest Glen Rd.\, Silver Spring\, MD\, 20902\, United States
CATEGORIES:Meeting
END:VEVENT
BEGIN:VEVENT
DTSTART;TZID=America/Halifax:20210821T183000
DTEND;TZID=America/Halifax:20210821T203000
DTSTAMP:20260423T155527
CREATED:20171031T024131Z
LAST-MODIFIED:20171031T024131Z
UID:539-1629570600-1629577800@www.cogawashingtondc.org
SUMMARY:General Meeting
DESCRIPTION:
URL:https://www.cogawashingtondc.org/event/general-meeting-2021-08-21/
LOCATION:1523 Forest Glen Rd.\, Silver Spring\, MD\, 20902\, United States
CATEGORIES:Meeting
END:VEVENT
BEGIN:VEVENT
DTSTART;TZID=America/Halifax:20210717T183000
DTEND;TZID=America/Halifax:20210717T203000
DTSTAMP:20260423T155527
CREATED:20171031T024131Z
LAST-MODIFIED:20171031T024131Z
UID:538-1626546600-1626553800@www.cogawashingtondc.org
SUMMARY:General Meeting
DESCRIPTION:
URL:https://www.cogawashingtondc.org/event/general-meeting-2021-07-17/
LOCATION:1523 Forest Glen Rd.\, Silver Spring\, MD\, 20902\, United States
CATEGORIES:Meeting
END:VEVENT
BEGIN:VEVENT
DTSTART;TZID=America/Halifax:20210619T183000
DTEND;TZID=America/Halifax:20210619T203000
DTSTAMP:20260423T155527
CREATED:20171031T024131Z
LAST-MODIFIED:20171031T024131Z
UID:513-1624127400-1624134600@www.cogawashingtondc.org
SUMMARY:General Meeting
DESCRIPTION:
URL:https://www.cogawashingtondc.org/event/general-meeting-2021-06-19/
LOCATION:1523 Forest Glen Rd.\, Silver Spring\, MD\, 20902\, United States
CATEGORIES:Meeting
END:VEVENT
BEGIN:VEVENT
DTSTART;TZID=America/Halifax:20210515T183000
DTEND;TZID=America/Halifax:20210515T203000
DTSTAMP:20260423T155527
CREATED:20171031T024131Z
LAST-MODIFIED:20171031T024131Z
UID:512-1621103400-1621110600@www.cogawashingtondc.org
SUMMARY:General Meeting
DESCRIPTION:
URL:https://www.cogawashingtondc.org/event/general-meeting-2021-05-15/
LOCATION:1523 Forest Glen Rd.\, Silver Spring\, MD\, 20902\, United States
CATEGORIES:Meeting
END:VEVENT
BEGIN:VEVENT
DTSTART;TZID=America/Halifax:20210417T183000
DTEND;TZID=America/Halifax:20210417T203000
DTSTAMP:20260423T155527
CREATED:20171031T024131Z
LAST-MODIFIED:20171031T024131Z
UID:511-1618684200-1618691400@www.cogawashingtondc.org
SUMMARY:General Meeting
DESCRIPTION:
URL:https://www.cogawashingtondc.org/event/general-meeting-2021-04-17/
LOCATION:1523 Forest Glen Rd.\, Silver Spring\, MD\, 20902\, United States
CATEGORIES:Meeting
END:VEVENT
BEGIN:VEVENT
DTSTART;TZID=America/Halifax:20210320T183000
DTEND;TZID=America/Halifax:20210320T203000
DTSTAMP:20260423T155527
CREATED:20171031T024131Z
LAST-MODIFIED:20171031T024131Z
UID:506-1616265000-1616272200@www.cogawashingtondc.org
SUMMARY:General Meeting
DESCRIPTION:
URL:https://www.cogawashingtondc.org/event/general-meeting-2021-03-20/
LOCATION:1523 Forest Glen Rd.\, Silver Spring\, MD\, 20902\, United States
CATEGORIES:Meeting
END:VEVENT
BEGIN:VEVENT
DTSTART;TZID=America/Halifax:20210220T183000
DTEND;TZID=America/Halifax:20210220T203000
DTSTAMP:20260423T155527
CREATED:20171031T024131Z
LAST-MODIFIED:20171031T024131Z
UID:502-1613845800-1613853000@www.cogawashingtondc.org
SUMMARY:General Meeting
DESCRIPTION:
URL:https://www.cogawashingtondc.org/event/general-meeting-2021-02-20/
LOCATION:1523 Forest Glen Rd.\, Silver Spring\, MD\, 20902\, United States
CATEGORIES:Meeting
END:VEVENT
BEGIN:VEVENT
DTSTART;TZID=America/Halifax:20210116T183000
DTEND;TZID=America/Halifax:20210116T203000
DTSTAMP:20260423T155527
CREATED:20171031T024131Z
LAST-MODIFIED:20171031T024131Z
UID:501-1610821800-1610829000@www.cogawashingtondc.org
SUMMARY:General Meeting
DESCRIPTION:
URL:https://www.cogawashingtondc.org/event/general-meeting-2021-01-16/
LOCATION:1523 Forest Glen Rd.\, Silver Spring\, MD\, 20902\, United States
CATEGORIES:Meeting
END:VEVENT
BEGIN:VEVENT
DTSTART;TZID=America/Halifax:20201219T183000
DTEND;TZID=America/Halifax:20201219T203000
DTSTAMP:20260423T155527
CREATED:20171031T024131Z
LAST-MODIFIED:20171031T024131Z
UID:500-1608402600-1608409800@www.cogawashingtondc.org
SUMMARY:General Meeting
DESCRIPTION:
URL:https://www.cogawashingtondc.org/event/general-meeting-2020-12-19/
LOCATION:1523 Forest Glen Rd.\, Silver Spring\, MD\, 20902\, United States
CATEGORIES:Meeting
END:VEVENT
BEGIN:VEVENT
DTSTART;TZID=America/Halifax:20201121T183000
DTEND;TZID=America/Halifax:20201121T203000
DTSTAMP:20260423T155527
CREATED:20171031T024131Z
LAST-MODIFIED:20171031T024131Z
UID:487-1605983400-1605990600@www.cogawashingtondc.org
SUMMARY:General Meeting
DESCRIPTION:
URL:https://www.cogawashingtondc.org/event/general-meeting-2020-11-21/
LOCATION:1523 Forest Glen Rd.\, Silver Spring\, MD\, 20902\, United States
CATEGORIES:Meeting
END:VEVENT
BEGIN:VEVENT
DTSTART;TZID=America/Halifax:20201017T183000
DTEND;TZID=America/Halifax:20201017T203000
DTSTAMP:20260423T155527
CREATED:20171031T024131Z
LAST-MODIFIED:20171031T024131Z
UID:486-1602959400-1602966600@www.cogawashingtondc.org
SUMMARY:General Meeting
DESCRIPTION:
URL:https://www.cogawashingtondc.org/event/general-meeting-2020-10-17/
LOCATION:1523 Forest Glen Rd.\, Silver Spring\, MD\, 20902\, United States
CATEGORIES:Meeting
END:VEVENT
BEGIN:VEVENT
DTSTART;TZID=America/Halifax:20200919T183000
DTEND;TZID=America/Halifax:20200919T203000
DTSTAMP:20260423T155527
CREATED:20171031T024131Z
LAST-MODIFIED:20171031T024131Z
UID:485-1600540200-1600547400@www.cogawashingtondc.org
SUMMARY:General Meeting
DESCRIPTION:
URL:https://www.cogawashingtondc.org/event/general-meeting-2020-09-19/
LOCATION:1523 Forest Glen Rd.\, Silver Spring\, MD\, 20902\, United States
CATEGORIES:Meeting
END:VEVENT
BEGIN:VEVENT
DTSTART;TZID=America/Halifax:20200815T183000
DTEND;TZID=America/Halifax:20200815T203000
DTSTAMP:20260423T155527
CREATED:20171031T024131Z
LAST-MODIFIED:20171031T024131Z
UID:484-1597516200-1597523400@www.cogawashingtondc.org
SUMMARY:General Meeting
DESCRIPTION:
URL:https://www.cogawashingtondc.org/event/general-meeting-2020-08-15/
LOCATION:1523 Forest Glen Rd.\, Silver Spring\, MD\, 20902\, United States
CATEGORIES:Meeting
END:VEVENT
BEGIN:VEVENT
DTSTART;TZID=America/Halifax:20200718T183000
DTEND;TZID=America/Halifax:20200718T203000
DTSTAMP:20260423T155527
CREATED:20171031T024131Z
LAST-MODIFIED:20171031T024131Z
UID:460-1595097000-1595104200@www.cogawashingtondc.org
SUMMARY:General Meeting
DESCRIPTION:
URL:https://www.cogawashingtondc.org/event/general-meeting-2020-07-18/
LOCATION:1523 Forest Glen Rd.\, Silver Spring\, MD\, 20902\, United States
CATEGORIES:Meeting
END:VEVENT
BEGIN:VEVENT
DTSTART;TZID=America/Halifax:20200620T183000
DTEND;TZID=America/Halifax:20200620T203000
DTSTAMP:20260423T155527
CREATED:20171031T024131Z
LAST-MODIFIED:20171031T024131Z
UID:431-1592677800-1592685000@www.cogawashingtondc.org
SUMMARY:General Meeting
DESCRIPTION:
URL:https://www.cogawashingtondc.org/event/general-meeting-2020-06-20/
LOCATION:1523 Forest Glen Rd.\, Silver Spring\, MD\, 20902\, United States
CATEGORIES:Meeting
END:VEVENT
BEGIN:VEVENT
DTSTART;TZID=America/Halifax:20200516T183000
DTEND;TZID=America/Halifax:20200516T203000
DTSTAMP:20260423T155527
CREATED:20171031T024131Z
LAST-MODIFIED:20171031T024131Z
UID:430-1589653800-1589661000@www.cogawashingtondc.org
SUMMARY:General Meeting
DESCRIPTION:
URL:https://www.cogawashingtondc.org/event/general-meeting-2020-05-16/
LOCATION:1523 Forest Glen Rd.\, Silver Spring\, MD\, 20902\, United States
CATEGORIES:Meeting
END:VEVENT
BEGIN:VEVENT
DTSTART;TZID=America/Halifax:20200418T183000
DTEND;TZID=America/Halifax:20200418T203000
DTSTAMP:20260423T155527
CREATED:20171031T024131Z
LAST-MODIFIED:20171031T024131Z
UID:425-1587234600-1587241800@www.cogawashingtondc.org
SUMMARY:General Meeting
DESCRIPTION:
URL:https://www.cogawashingtondc.org/event/general-meeting-2020-04-18/
LOCATION:1523 Forest Glen Rd.\, Silver Spring\, MD\, 20902\, United States
CATEGORIES:Meeting
END:VEVENT
BEGIN:VEVENT
DTSTART;TZID=America/Halifax:20200321T183000
DTEND;TZID=America/Halifax:20200321T203000
DTSTAMP:20260423T155527
CREATED:20171031T024131Z
LAST-MODIFIED:20171031T024131Z
UID:404-1584815400-1584822600@www.cogawashingtondc.org
SUMMARY:General Meeting
DESCRIPTION:
URL:https://www.cogawashingtondc.org/event/general-meeting-2020-03-21/
LOCATION:1523 Forest Glen Rd.\, Silver Spring\, MD\, 20902\, United States
CATEGORIES:Meeting
END:VEVENT
BEGIN:VEVENT
DTSTART;TZID=UTC:20200307T213000
DTEND;TZID=UTC:20200308T030000
DTSTAMP:20260423T155527
CREATED:20200224T073340Z
LAST-MODIFIED:20200224T073611Z
UID:560-1583616600-1583636400@www.cogawashingtondc.org
SUMMARY:Ghana's 63rd Anniversary & Fundraising Dinner Dance
DESCRIPTION:
URL:https://www.cogawashingtondc.org/event/ghanas-63rd-anniversary-fundraising-dinner-dance/
LOCATION:Holiday Inn\, 10000 Baltimore Avenue\, College Park\, MD\, 20740\, United States
CATEGORIES:Social
END:VEVENT
BEGIN:VEVENT
DTSTART;TZID=America/Halifax:20200215T183000
DTEND;TZID=America/Halifax:20200215T203000
DTSTAMP:20260423T155527
CREATED:20171031T024131Z
LAST-MODIFIED:20171031T024131Z
UID:403-1581791400-1581798600@www.cogawashingtondc.org
SUMMARY:General Meeting
DESCRIPTION:
URL:https://www.cogawashingtondc.org/event/general-meeting-2020-02-15/
LOCATION:1523 Forest Glen Rd.\, Silver Spring\, MD\, 20902\, United States
CATEGORIES:Meeting
END:VEVENT
BEGIN:VEVENT
DTSTART;TZID=America/Halifax:20200118T183000
DTEND;TZID=America/Halifax:20200118T203000
DTSTAMP:20260423T155527
CREATED:20171031T024131Z
LAST-MODIFIED:20171031T024131Z
UID:388-1579372200-1579379400@www.cogawashingtondc.org
SUMMARY:General Meeting
DESCRIPTION:
URL:https://www.cogawashingtondc.org/event/general-meeting-2020-01-18/
LOCATION:1523 Forest Glen Rd.\, Silver Spring\, MD\, 20902\, United States
CATEGORIES:Meeting
END:VEVENT
BEGIN:VEVENT
DTSTART;TZID=America/Halifax:20191221T183000
DTEND;TZID=America/Halifax:20191221T203000
DTSTAMP:20260423T155527
CREATED:20171031T024131Z
LAST-MODIFIED:20171031T024131Z
UID:373-1576953000-1576960200@www.cogawashingtondc.org
SUMMARY:General Meeting
DESCRIPTION:
URL:https://www.cogawashingtondc.org/event/general-meeting-2019-12-21/
LOCATION:1523 Forest Glen Rd.\, Silver Spring\, MD\, 20902\, United States
CATEGORIES:Meeting
END:VEVENT
BEGIN:VEVENT
DTSTART;TZID=America/Halifax:20191116T183000
DTEND;TZID=America/Halifax:20191116T203000
DTSTAMP:20260423T155527
CREATED:20171031T024131Z
LAST-MODIFIED:20171031T024131Z
UID:368-1573929000-1573936200@www.cogawashingtondc.org
SUMMARY:General Meeting
DESCRIPTION:
URL:https://www.cogawashingtondc.org/event/general-meeting-2019-11-16/
LOCATION:1523 Forest Glen Rd.\, Silver Spring\, MD\, 20902\, United States
CATEGORIES:Meeting
END:VEVENT
BEGIN:VEVENT
DTSTART;TZID=America/Halifax:20191019T183000
DTEND;TZID=America/Halifax:20191019T203000
DTSTAMP:20260423T155527
CREATED:20171031T024131Z
LAST-MODIFIED:20171031T024131Z
UID:150-1571509800-1571517000@www.cogawashingtondc.org
SUMMARY:General Meeting
DESCRIPTION:
URL:https://www.cogawashingtondc.org/event/general-meeting-2019-10-19/
LOCATION:1523 Forest Glen Rd.\, Silver Spring\, MD\, 20902\, United States
CATEGORIES:Meeting
END:VEVENT
BEGIN:VEVENT
DTSTART;TZID=America/Halifax:20190921T183000
DTEND;TZID=America/Halifax:20190921T203000
DTSTAMP:20260423T155527
CREATED:20171031T024131Z
LAST-MODIFIED:20171031T024131Z
UID:149-1569090600-1569097800@www.cogawashingtondc.org
SUMMARY:General Meeting
DESCRIPTION:
URL:https://www.cogawashingtondc.org/event/general-meeting-2019-09-21/
LOCATION:1523 Forest Glen Rd.\, Silver Spring\, MD\, 20902\, United States
CATEGORIES:Meeting
END:VEVENT
END:VCALENDAR