BEGIN:VCALENDAR
VERSION:2.0
PRODID:-//Council for Ghanaian Associations (COGA) - ECPv6.15.20//NONSGML v1.0//EN
CALSCALE:GREGORIAN
METHOD:PUBLISH
X-WR-CALNAME:Council for Ghanaian Associations (COGA)
X-ORIGINAL-URL:https://www.cogawashingtondc.org
X-WR-CALDESC:Events for Council for Ghanaian Associations (COGA)
REFRESH-INTERVAL;VALUE=DURATION:PT1H
X-Robots-Tag:noindex
X-PUBLISHED-TTL:PT1H
BEGIN:VTIMEZONE
TZID:UTC
BEGIN:STANDARD
TZOFFSETFROM:+0000
TZOFFSETTO:+0000
TZNAME:UTC
DTSTART:20190101T000000
END:STANDARD
END:VTIMEZONE
BEGIN:VTIMEZONE
TZID:America/New_York
BEGIN:DAYLIGHT
TZOFFSETFROM:-0500
TZOFFSETTO:-0400
TZNAME:EDT
DTSTART:20170312T070000
END:DAYLIGHT
BEGIN:STANDARD
TZOFFSETFROM:-0400
TZOFFSETTO:-0500
TZNAME:EST
DTSTART:20171105T060000
END:STANDARD
BEGIN:DAYLIGHT
TZOFFSETFROM:-0500
TZOFFSETTO:-0400
TZNAME:EDT
DTSTART:20180311T070000
END:DAYLIGHT
BEGIN:STANDARD
TZOFFSETFROM:-0400
TZOFFSETTO:-0500
TZNAME:EST
DTSTART:20181104T060000
END:STANDARD
BEGIN:DAYLIGHT
TZOFFSETFROM:-0500
TZOFFSETTO:-0400
TZNAME:EDT
DTSTART:20190310T070000
END:DAYLIGHT
BEGIN:STANDARD
TZOFFSETFROM:-0400
TZOFFSETTO:-0500
TZNAME:EST
DTSTART:20191103T060000
END:STANDARD
END:VTIMEZONE
BEGIN:VEVENT
DTSTART;TZID=UTC:20200307T213000
DTEND;TZID=UTC:20200308T030000
DTSTAMP:20260424T035303
CREATED:20200224T073340Z
LAST-MODIFIED:20200224T073611Z
UID:560-1583616600-1583636400@www.cogawashingtondc.org
SUMMARY:Ghana's 63rd Anniversary & Fundraising Dinner Dance
DESCRIPTION:
URL:https://www.cogawashingtondc.org/event/ghanas-63rd-anniversary-fundraising-dinner-dance/
LOCATION:Holiday Inn\, 10000 Baltimore Avenue\, College Park\, MD\, 20740\, United States
CATEGORIES:Social
END:VEVENT
BEGIN:VEVENT
DTSTART;TZID=America/New_York:20180721T130000
DTEND;TZID=America/New_York:20180721T190000
DTSTAMP:20260424T035303
CREATED:20180721T062432Z
LAST-MODIFIED:20180721T062432Z
UID:467-1532178000-1532199600@www.cogawashingtondc.org
SUMMARY:GhanaFest 2018
DESCRIPTION:
URL:https://www.cogawashingtondc.org/event/ghanafest-2018/
LOCATION:Fort Hunt Park\, 8999 Fort Hunt Road\, Alexandria\, VA\, 22308\, United States
CATEGORIES:Social
ATTACH;FMTTYPE=image/jpeg:https://www.cogawashingtondc.org/wp-content/uploads/2018/07/2018-Picnic-Flyer_Final-1-800.jpg
END:VEVENT
END:VCALENDAR